BEGIN:VCALENDAR
VERSION:2.0
PRODID:nkc_event TYPO3 Extension
METHOD:PUBLISH
BEGIN:VEVENT
UID:0131b94e87ff7023c1bb475144b3d57a
LOCATION:St. Martin-Kirche Nortorf
SUMMARY:Kindermusical DQUOTEKönig DavidDQUOTE von Thomas Riegler
DESCRIPTION:Lassen Sie sich mitnehmen und sehen Sie\, wie der kleine Hirte David auserwählt wird\, der neue König Israels zu sein und seinen Kampf mit dem Riesen Goliat besteht.Die mitreißenden\, schwungvollen und andächtigen Lieder von Thomas Riegler erzählen eine Geschichte\, die auch den Kleinsten Mut macht\, ihre Ziele zu erreichen.Im Anschluss findet ein Kinder- und Gemeindefest in und um die St. Martin-Kirche statt.
CLASS:PUBLIC
DTSTART:20260614T120000Z
DTEND:20260614T130000Z
DTSTAMP:20260422T101957Z
END:VEVENT

END:VCALENDAR