BEGIN:VCALENDAR
VERSION:2.0
PRODID:nkc_event TYPO3 Extension
METHOD:PUBLISH
BEGIN:VEVENT
UID:87fbf3f6cff21ada7ff503e49ddb2035
LOCATION:St. Aegidien Kirche
SUMMARY:Konzert des Lübecker Sing- und Spielkreises
DESCRIPTION:
CLASS:PUBLIC
DTSTART:20260426T160000Z
DTEND:20260426T170000Z
DTSTAMP:20260422T110122Z
END:VEVENT

END:VCALENDAR