BEGIN:VCALENDAR
VERSION:2.0
PRODID:nkc_event TYPO3 Extension
METHOD:PUBLISH
BEGIN:VEVENT
UID:b013d188ae0ae1c1740c12dc248816e6
LOCATION:St. Johannis-Harvestehude
SUMMARY:Haydn":" Kleine Orgelsolomesse
DESCRIPTION:
CLASS:PUBLIC
DTSTART:20260524T080000Z
DTEND:20260524T090000Z
DTSTAMP:20260421T082953Z
END:VEVENT

END:VCALENDAR