BEGIN:VCALENDAR
VERSION:2.0
PRODID:nkc_event TYPO3 Extension
METHOD:PUBLISH
BEGIN:VEVENT
UID:fd5fe8c8c487ee7f7a026ed955f75e8c
LOCATION:St. Laurentius
SUMMARY:Cello & Chor - Klänge im Dialog in der Kirche in Tönning
DESCRIPTION:Am Sonntag\, dem 26. April um 17 Uhr präsentiert das Vokalensemble Kleiner Chor Husum in der St. Laurentius in Tönning selten zu erlebende Musik für Cello und Chor. Als musikalische Gäste wurden die Cellistin Julia Polziehn (Sylt) eingeladen und das sonux-ensemble – die Männerstimmen der Chorknaben Uetersen (Leitung":" Felix Renner). In einem abwechslungsreichen Programm mit Musik von 1550 bis in die Gegenwart weiteren anderen zeitgenössischen Komponistinnen\, die hier eher unbekannt sind. Farbig in der Besetzung mit Cello solo\, gemischtem Chor a-cappella oder ausschließlich Männerstimmen bis hin zur Verschmelzung des Cello mit dem Gesamtchorklang spielt das Konzert mit dem Dialog der musikalischen Farben zwischen menschlicher Stimme und Saiteninstrument. Unter der Leitung von Kirsten Susanne Böhm musizieren der Kleine Chor Husum\, das sonux-ensemble und die Cellistin Julia Polziehn.Eintritt am Eingang nach eigener Einschätzung.
CLASS:PUBLIC
DTSTART:20260426T150000Z
DTEND:20260426T160000Z
DTSTAMP:20260423T124735Z
END:VEVENT

END:VCALENDAR