BEGIN:VCALENDAR
VERSION:2.0
PRODID:nkc_event TYPO3 Extension
METHOD:PUBLISH
BEGIN:VEVENT
UID:98858bbafc23accf32d47a9088e53299
LOCATION:Ev.-luth. St. Pankratius-Kirchengemeinde in Hamburg-Neuenfelde
SUMMARY:Neuenfelder Orgelmusik
DESCRIPTION:
CLASS:PUBLIC
DTSTART:20261101T153000Z
DTEND:20261101T163000Z
DTSTAMP:20260420T103809Z
END:VEVENT

END:VCALENDAR