BEGIN:VCALENDAR
VERSION:2.0
PRODID:nkc_event TYPO3 Extension
METHOD:PUBLISH
BEGIN:VEVENT
UID:8967ce9bc4c8b92cf58d329cfd86eaba
LOCATION:St. Jakobi
SUMMARY:Orgel Schlag Zwölf – Eröffnungskonzert »Klassik spektakulär« im Rahmen des HanseKulturFestivals 2026
DESCRIPTION:»Klassik spektakulär«\nGeorg Friedrich Händel (1685–1759)»Ankunft der Königin von Saba« aus dem Oratorium Solomon HWV 67(Bearbeitung":" Vladimir Magalashvili)Johann Sebastian Bach (1685–1750)»Jesus bleibet meine Freude« aus der Kantate Herz und Mund und Tat und Leben BWV 147(Bearbeitung":" Vladimir Magalashvili)Antonio Vivaldi (1678–1741)La primavera (Der Frühling)":" 1. Satz (Allegro)aus Le quattro stagioni (Die vier Jahreszeiten) op. 8(Bearbeitung":" Jonathan Scott)Gabriel Fauré (1845–1924)Sicilienne aus Pelléas et Mélisande(Bearbeitung":" Louis Robilliard)Erkki-Sven Tüür (*1959)Spectrum IJohn Williams (*1932)Fantasie über Hedwigs Thema aus Harry Potter(Bearbeitung":" Christian Nelz)Astor Piazzolla (1921–1992)Oblivion(Bearbeitung":" Vladimir Magalashvili)Wolfgang Amadé Mozart (1756–1791)Ouvertüre zur Oper Le nozze di Figaro (Die Hochzeit des Figaro) KV 492(Bearbeitung":" Jonathan Scott)***Im Anschluss Orgelführung.
CLASS:PUBLIC
DTSTART:20260606T100000Z
DTEND:20260606T110000Z
DTSTAMP:20260424T001250Z
END:VEVENT

END:VCALENDAR