BEGIN:VCALENDAR
VERSION:2.0
PRODID:nkc_event TYPO3 Extension
METHOD:PUBLISH
BEGIN:VEVENT
UID:1c4f355f333ed5f6e6acd091c31c5060
LOCATION:Offene Kirche St. Nikolai in Kiel
SUMMARY:Die Halbe Stunde
DESCRIPTION:Vielfältige Konzertreihe von Musik aller Stile und Epochen.Wöchentlich wechselnde Künstler*innen und wechselndes Programm. Der Eintritt ist frei.
CLASS:PUBLIC
DTSTART:20260422T150000Z
DTEND:20260422T153000Z
DTSTAMP:20260419T104906Z
END:VEVENT

END:VCALENDAR