BEGIN:VCALENDAR
VERSION:2.0
PRODID:nkc_event TYPO3 Extension
METHOD:PUBLISH
BEGIN:VEVENT
UID:9cded24e8c13b6afd8be16d96923ca26
LOCATION:St. Johanniskirche
SUMMARY:Sommerliche Abendmusik mit dem Jugendchor
DESCRIPTION:
CLASS:PUBLIC
DTSTART:20260630T160000Z
DTEND:20260630T170000Z
DTSTAMP:20260420T131152Z
END:VEVENT

END:VCALENDAR