BEGIN:VCALENDAR
VERSION:2.0
PRODID:nkc_event TYPO3 Extension
METHOD:PUBLISH
BEGIN:VEVENT
UID:87e356d5a7e18f367f5b8f97d8ecac7c
LOCATION:Lutherkirche
SUMMARY:Konzert mit CANTANDO in der Lutherkirche
DESCRIPTION:CANTANDOpräsentiert im neuen Programm eine klangvolle Entdeckungsreise zwischen kunstvoller Kirchenmusik und fesselnden Pop-Arrangements.Mal laut\, mal leise\, stark und zart\, berührend und emotionalEben echt CANTANDO
CLASS:PUBLIC
DTSTART:20260429T180000Z
DTEND:20260429T203000Z
DTSTAMP:20260422T104350Z
END:VEVENT

END:VCALENDAR