BEGIN:VCALENDAR
VERSION:2.0
PRODID:nkc_event TYPO3 Extension
METHOD:PUBLISH
BEGIN:VEVENT
UID:7155bdb71edea426d247a3e3c631b2b0
LOCATION:Stadtkirche
SUMMARY:Gottesdienst mit Pastor Bemmé
DESCRIPTION:
CLASS:PUBLIC
DTSTART:20260426T083000Z
DTEND:20260426T093000Z
DTSTAMP:20260423T022415Z
END:VEVENT

END:VCALENDAR