BEGIN:VCALENDAR
VERSION:2.0
PRODID:nkc_event TYPO3 Extension
METHOD:PUBLISH
BEGIN:VEVENT
UID:81d76ad537cdfd4cf4ac3f4490ca4261
LOCATION:Hauptkirche St. Katharinen
SUMMARY:Orgelmusik zur Mittagszeit
DESCRIPTION:Andreas Fischer u.a. spielen an der Barockorgel von St. Katharinen.Eintritt frei. Wir erbitten eine Kollekte in den Opferstock an der Wendeltreppe zugunsten der Orgel. Im Anschluss Orgelführung. Interessenten versammeln sich auf der Empore (über Wendeltreppe). Orgelmusik zur Mittagszeit immer mittwochs 12":"30 Uhr.
CLASS:PUBLIC
DTSTART:20260708T103000Z
DTEND:20260708T113000Z
DTSTAMP:20260421T191803Z
END:VEVENT

END:VCALENDAR