BEGIN:VCALENDAR
VERSION:2.0
PRODID:nkc_event TYPO3 Extension
METHOD:PUBLISH
BEGIN:VEVENT
UID:d7d54cf66aec5cdb29662ed460fdb6d2
LOCATION:St. Marien
SUMMARY:Chormusik am Vormittag
DESCRIPTION:
CLASS:PUBLIC
DTSTART:20260501T093000Z
DTEND:20260501T103000Z
DTSTAMP:20260424T013636Z
END:VEVENT

END:VCALENDAR