BEGIN:VCALENDAR
VERSION:2.0
PRODID:nkc_event TYPO3 Extension
METHOD:PUBLISH
BEGIN:VEVENT
UID:748ec9119a2ae5436eefea318235ef26
LOCATION:St. Nikolai-Kirche
SUMMARY:Orgel um elf
DESCRIPTION:30 Minuten Musik und Texte 
CLASS:PUBLIC
DTSTART:20260425T090000Z
DTEND:20260425T100000Z
DTSTAMP:20260420T131819Z
END:VEVENT

END:VCALENDAR