BEGIN:VCALENDAR
VERSION:2.0
PRODID:nkc_event TYPO3 Extension
METHOD:PUBLISH
BEGIN:VEVENT
UID:fe7c28012357e9b5fc66aff58cf3b10e
LOCATION:Hauptkirche St. Katharinen
SUMMARY:Orgelsommer":" Rudolf Lutz (CH) und Fulbert Steffensky
DESCRIPTION:Hamburger Orgelsommer in St. Katharinen":" Paul Gerhardt (1607–1676) zum 350. TodesjahrImprovisation und Texte zu Paul Gerhardt
CLASS:PUBLIC
DTSTART:20260809T160000Z
DTEND:20260809T170000Z
DTSTAMP:20260424T013913Z
END:VEVENT

END:VCALENDAR