BEGIN:VCALENDAR
VERSION:2.0
PRODID:nkc_event TYPO3 Extension
METHOD:PUBLISH
BEGIN:VEVENT
UID:e2acbf250380a6d7b22f1ffe5bd4bb54
LOCATION:Sinstorfer Kirche
SUMMARY:Sinstorfer Abendmusik DQUOTEIn dir ist FreudeDQUOTE
DESCRIPTION:
CLASS:PUBLIC
DTSTART:20260705T160000Z
DTEND:20260705T170000Z
DTSTAMP:20260420T131453Z
END:VEVENT

END:VCALENDAR