BEGIN:VCALENDAR
VERSION:2.0
PRODID:nkc_event TYPO3 Extension
METHOD:PUBLISH
BEGIN:VEVENT
UID:56431d403b6109af79b828200936f161
LOCATION:St. Markus
SUMMARY:Märchen und Musik – Frauen
DESCRIPTION:
CLASS:PUBLIC
DTSTART:20260426T160000Z
DTEND:20260426T170000Z
DTSTAMP:20260424T013842Z
END:VEVENT

END:VCALENDAR