BEGIN:VCALENDAR
VERSION:2.0
PRODID:nkc_event TYPO3 Extension
METHOD:PUBLISH
BEGIN:VEVENT
UID:3afe2a2539984d65fb473cf152965e12
LOCATION:St. Johannes-Kirche Giekau
SUMMARY:DQUOTESina NossaDQUOTE - Konzert in der St. Johannes-Kirche
DESCRIPTION:Zeitlose Musik aus PortugalAm 10. Mai um 17.00 Uhr wird die sechsköpfige deutsch-portugiesische Band Sina Nossa (u.a. mit André Krengel) auf ihrer Tournee durch Norddeutschland bei uns zu Gast sein. Seit 20 Jahren steht der Name Sina Nossa für portugiesische Musik DQUOTEmade in Germany“ – eine unvergleichliche Fusion aus Fado\, Folklore\, Klassik\, Latin und mehr.Ihre Leidenschaft für den Fado brachte die Musiker von Sina Nossa – zu Deutsch":" unsere Bestimmung – zusammen. Zwar ist der Fado die treibende Kraft\, doch wer bei Sina Nossa ein klassisches Fado-Ensemble erwartet\, wird überrascht sein. Denn die Musiker verschmelzen ihre musikalischen Wurzeln mit Elementen aus Klassik\, Jazz\, Pop und Folklore\, bringen ihre unterschiedlichen musikalischen Charaktere mit ein und prägen so ihren eigenen\, unverwechselbaren Stil. Die Melancholie und der Weltschmerz des Fado treffen hier ohne Pathos auf Rhythmus\, heitere Beschwingtheit und Lebensfreude. Lassen Sie sich verzaubern von der Poesie Portugals!Der Eintritt ist frei\, um eine Spende am Ausgang wird gebeten.
CLASS:PUBLIC
DTSTART:20260510T150000Z
DTEND:20260510T160000Z
DTSTAMP:20260423T124336Z
END:VEVENT

END:VCALENDAR