BEGIN:VCALENDAR
VERSION:2.0
PRODID:nkc_event TYPO3 Extension
METHOD:PUBLISH
BEGIN:VEVENT
UID:7a2599a9f0524add067c25b43415dc46
LOCATION:Peter-Paul-Kirche
SUMMARY:Gospelnacht der Chöre (59 a)
DESCRIPTION:So war es 2024":" Als Vorbote des Sommers erklingt am Freitag um 20 Uhr und am Samstag  zur familienfreundlichen Zeit um 19 Uhr die friedensbewegte Gospelnacht der Chöre unter dem Motto „60s – peace\, no war“ in der Peter-Paul-Kirche Bad Oldesloe\, Kirchberg 8\, 23843 Bad Oldesloe. Das Chörchen\, der Teens-Chor und der Jugendchor interpretieren Contemporary Gospel\, Worship und dazu Songs der 60er Jahre aus der unruhigen Zeit von Flowerpower und Friedensbewegung\, Mondlandung und Woodstock.Die Sängerinnen und Sänger der drei Chöre werden begleitet von Marcus Rau am Klavier und der Gospelband unter der Leitung von Henning Münther. Aktualisiert":" Platzkarten sind zu 6 bis 24 Euro ab Dienstag\, 19.05.26\, um 10 Uhr im Internet mit diesem Link mit der Möglichkeit zum Selbstausdrucken erhältlich. Außerdem sind sie auch während der Öffnungszeit des Kirchenbüros\, Kirchberg 4\, 23843 Bad Oldesloe\, zu bekommen. „Die gute Nachricht der Gospelsongs passt gerade in der heutigen Zeit wieder perfekt zu den hoffnungsvollen 60er-Songs mit ihrer Botschaft „peace\, no war“. Welche wichtigere Aussage kann es geben als den Wunsch nach Frieden?“ beschreibt Kirchenmusiker Henning Münther seine Motivation für die Auswahl des Programms.\nNeben lebhaften Gospelsongs wie „Oh Happy Day“ erklingen Melodien wie „Let The Sunshine In“ aus dem Musical „Hair“\, „We Shall Overcome” von allen Chören gemeinsam\, „Say A Little Prayer“ und natürlich „Respect“ von Aretha Franklin\, aber auch „Hey Dude!“ von den Beatles. Bei dieser bunten Mischung dürfen die Zuschauer übrigens auf die Outfits der Mitwirkenden gespannt sein. Alle sind eingeladen\, auch sich selbst passend auszustaffieren. Die Feierenergie überträgt sich beim Mitschnipsen\, -klatschen und -singen auf alle Teilnehmenden der Gospelnächte und sorgt dafür\, dass unvergessliche Momente entstehen. \nMehr als 100 Stimmen aus dem Chörchen\, dem Teens-Chor und dem Jugendchor singen gemeinsame und auch einige individuelle Songs. Dabei treten bekannte und neue Solisten des Jugendchores und des Teens-Chores in den Vordergrund. Die Moderation übernehmen Carlotta Camejo und Maximilian Schug. Die Gospelband besteht aus Marcus Rau am Piano\, Ole Ruge an den E-Drums\, Niclas Jawinski an der Gitarre\, Björn Kröger am E-Bass und Nathanael Kläs an den Keyboards. Felix Schutt sorgt mit seiner professionellen Lichtregie für ein echtes Happening. Die musikalische Leitung hat Kirchenmusikdirektor Henning Münther. In der Konzertpause werden die Besucher mit Getränken versorgt.\nIn 2026 wird es natürlich ein neues Motto geben. Die o. a. Termine sind jedoch schon aktualisiert. 
CLASS:PUBLIC
DTSTART:20260612T180000Z
DTEND:20260612T190000Z
DTSTAMP:20260424T013658Z
END:VEVENT

END:VCALENDAR