BEGIN:VCALENDAR
VERSION:2.0
PRODID:nkc_event TYPO3 Extension
METHOD:PUBLISH
BEGIN:VEVENT
UID:b2d1bfecf76b2f70e163f0428b10606c
LOCATION:Dreifaltigkeitskirche Schleswig Friedrichsberg
SUMMARY:Frühjahrskonzert
DESCRIPTION:Frühjahrskonzert mit Rock my Soul\, Crescendo & Gästenunter der Leitung von Kreiskantor Guido Helmentag. Moderne Chormusik trifft auf Jazz und Klezmer. Mittendrin Crescendo im Stile der Comedian Harmonists.Eintritt frei. Um eine Kollekte für die Kirchenmusik wird gebeten.
CLASS:PUBLIC
DTSTART:20260507T180000Z
DTEND:20260507T190000Z
DTSTAMP:20260424T013619Z
END:VEVENT

END:VCALENDAR