BEGIN:VCALENDAR
VERSION:2.0
PRODID:nkc_event TYPO3 Extension
METHOD:PUBLISH
BEGIN:VEVENT
UID:be03850c57ad5ab169468cb946219b14
LOCATION:Marktkirche
SUMMARY:Lobpreisnacht
DESCRIPTION:
CLASS:PUBLIC
DTSTART:20260424T163000Z
DTEND:20260424T173000Z
DTSTAMP:20260423T221502Z
END:VEVENT

END:VCALENDAR