BEGIN:VCALENDAR
VERSION:2.0
PRODID:nkc_event TYPO3 Extension
METHOD:PUBLISH
BEGIN:VEVENT
UID:ffb79e6a8bbbdc3391b041a59fbbca07
LOCATION:St. Jakobi
SUMMARY:Johann Sebastian Bach":" »Weihnachts-Oratorium« BWV 248 (Teile I–III) zum Mitsingen
DESCRIPTION:
CLASS:PUBLIC
DTSTART:20261206T160000Z
DTEND:20261206T170000Z
DTSTAMP:20260424T000914Z
END:VEVENT

END:VCALENDAR