BEGIN:VCALENDAR
VERSION:2.0
PRODID:nkc_event TYPO3 Extension
METHOD:PUBLISH
BEGIN:VEVENT
UID:c3b726676b77b39bc0b0f4ec7dbde329
LOCATION:St. Jakobi
SUMMARY:Jubiläumskonzert mit dem LandesJugendChor Schleswig-Holstein
DESCRIPTION:
CLASS:PUBLIC
DTSTART:20260426T150000Z
DTEND:20260426T160000Z
DTSTAMP:20260424T122323Z
END:VEVENT

END:VCALENDAR