BEGIN:VCALENDAR
VERSION:2.0
PRODID:nkc_event TYPO3 Extension
METHOD:PUBLISH
BEGIN:VEVENT
UID:6b59b55ee7f91af2c31930853cfb9ebc
LOCATION:Bugenhagenkirche
SUMMARY:Musik und gute Worte
DESCRIPTION:Isolde Kittel-Zerer spielt Orgelwerke von Joahnn Sebastian Bach und Zeitgenossen. Dazu liest Pastor Lars Därmann Texte zum Frühling.
CLASS:PUBLIC
DTSTART:20260509T170000Z
DTEND:20260509T180000Z
DTSTAMP:20260424T013744Z
END:VEVENT

END:VCALENDAR