BEGIN:VCALENDAR
VERSION:2.0
PRODID:nkc_event TYPO3 Extension
METHOD:PUBLISH
BEGIN:VEVENT
UID:36a9ef057af7c649706f57d31f6c5921
LOCATION:Hauptkirche St. Jacobi
SUMMARY:Himmlische Musik zum Kaffee mit Liebe für den guten Zweck
DESCRIPTION:Johann Sebastian Bach\, 1685–1750Präludium Es-Dur BWV 552\, 1Max Reger\, 1873–1916Benedictus op. 59\, Nr. 9Johann Sebastian Bach\, 1685–1750Fuge Es-Dur BWV 552\, 2
CLASS:PUBLIC
DTSTART:20260606T100000Z
DTEND:20260606T110000Z
DTSTAMP:20260421T220920Z
END:VEVENT

END:VCALENDAR