BEGIN:VCALENDAR
VERSION:2.0
PRODID:nkc_event TYPO3 Extension
METHOD:PUBLISH
BEGIN:VEVENT
UID:ac3c0c8e00528543b870739fe8ed2326
LOCATION:St. Martin-Kirche Nortorf
SUMMARY:Konzert DQUOTEDie schöne MüllerinDQUOTE für Solo\, Chor und Klavier
DESCRIPTION:Leitung":" KMD Günter BongertDer lyrische Tenor Christian Georg\, der Pianist Gerd Jordan und der Kammerchor DQUOTECanterinoDQUOTE unter Leitung von KMD interpretieren Franz Schuberts großartigen Zyklus DQUOTEDie schöne MüllerinDQUOTE\, ein Gipfelpunkt des romantischen Liedschaffens und Prüfstein für jeden ernsthaften Sänger.Vor 25 Jahren schuf der Komponist Carlo Morenco eine Fassung für Solist\, 4st. Chor und Klavier. Der Klavierpart wurde dabei nicht verändert. Schubert vollendete den 20 Lieder enthaltenden\, zu Herzen gehenden Zyklus nach Gedichten (sog. DQUOTEWanderliedernDQUOTE) von Wilhelm Müller.
CLASS:PUBLIC
DTSTART:20260425T161000Z
DTEND:20260425T171000Z
DTSTAMP:20260423T022021Z
END:VEVENT

END:VCALENDAR