BEGIN:VCALENDAR
VERSION:2.0
PRODID:nkc_event TYPO3 Extension
METHOD:PUBLISH
BEGIN:VEVENT
UID:40c2a1127d9321b1bd0f67ca1e5c9a06
LOCATION:Paulus-Zentrum
SUMMARY:Paule singt
DESCRIPTION:Astrid Hanisch\, Gottfried Kretschmer und Conrad Maass (der „MännerXangverein“) führen euch durch ein buntes Programm aus Gospel\, Schlager und Pop/Jazz/Folk- Songs. Wir singen zu handgemachter Musik ohne Noten\; die Texte werden projiziert. Wer Spaß am Singen hat\, ist herzlich willkommen!Der Eintritt ist frei\, Spenden sind willkommen. Weitere Infos über Gottfried KretschmerGottfried.Kretschmer@online.de \, YouTube":" „Abendsingen mit dem MännerXangsverein“
CLASS:PUBLIC
DTSTART:20260501T170000Z
DTEND:20260501T180000Z
DTSTAMP:20260422T110829Z
END:VEVENT

END:VCALENDAR