BEGIN:VCALENDAR
VERSION:2.0
PRODID:nkc_event TYPO3 Extension
METHOD:PUBLISH
BEGIN:VEVENT
UID:fdf4ca06bf28d035f4ceed063e6592b7
LOCATION:Kirche St. Johannis zu Hamburg-Eppendorf
SUMMARY:Festliche Bläsermusik
DESCRIPTION:
CLASS:PUBLIC
DTSTART:20260524T080000Z
DTEND:20260524T090000Z
DTSTAMP:20260424T050048Z
END:VEVENT

END:VCALENDAR