BEGIN:VCALENDAR
VERSION:2.0
PRODID:nkc_event TYPO3 Extension
METHOD:PUBLISH
BEGIN:VEVENT
UID:461c8d602bc6b950b8845ea298757ca8
LOCATION:St. Marien
SUMMARY:»Deutsche Orgelromantik«. Lübecker Abendmusik
DESCRIPTION:Werke von Brahms\, Bruckner und Liszt. 
CLASS:PUBLIC
DTSTART:20260612T170000Z
DTEND:20260612T180000Z
DTSTAMP:20260420T131152Z
END:VEVENT

END:VCALENDAR