BEGIN:VCALENDAR
VERSION:2.0
PRODID:nkc_event TYPO3 Extension
METHOD:PUBLISH
BEGIN:VEVENT
UID:5756c6d49c9149ee2851ef09f4090aba
LOCATION:Dankeskirche Rahlstedt-Ost
SUMMARY:Konzert Flöte & Klavier
DESCRIPTION:Das Hamburger Duo Johanna Rabe (Flöte) und Jonas Kannenberg (Orgel) präsentieren Musik aus dem Barock\, sowie Stücke aus Romantik und impressionistischer Moderne. Es erklingen insbesondere Werke deutscher und französischer Komponisten\, darunter Johann Adolf Hasse und Loeillet\, Theodor Blumer und Faure. Die beiden Künstler bringen gerne unbekanntere Stücke zu Gehör\, die das Publikum sehr abwechslungsreich überraschen.
CLASS:PUBLIC
DTSTART:20250511T140800Z
DTEND:20250511T150800Z
DTSTAMP:20260422T004909Z
END:VEVENT

END:VCALENDAR