BEGIN:VCALENDAR
VERSION:2.0
PRODID:nkc_event TYPO3 Extension
METHOD:PUBLISH
BEGIN:VEVENT
UID:3e39c9deb1bd8a0fc227005fa30dc738
LOCATION:Marktkirche
SUMMARY:Orchesterkonzert
DESCRIPTION:
CLASS:PUBLIC
DTSTART:20260606T160000Z
DTEND:20260606T170000Z
DTSTAMP:20260421T221230Z
END:VEVENT

END:VCALENDAR