BEGIN:VCALENDAR
VERSION:2.0
PRODID:nkc_event TYPO3 Extension
METHOD:PUBLISH
BEGIN:VEVENT
UID:e64886077401beb1018d09a2e4342ee0
LOCATION:Hauptkirche St. Michaelis
SUMMARY:Krypta-Konzert
DESCRIPTION:Hamburger Camerata - Kryptakonzert 2Giacomo Puccini":" Streichquartett cis-Moll »Crisantemi«Franz Schubert":" Streichquartett Nr. 10 Es-Dur D87Antonín Dvorák":" »Amerikanisches Quartett« op. 96
CLASS:PUBLIC
DTSTART:20260429T173000Z
DTEND:20260429T183000Z
DTSTAMP:20260425T034141Z
END:VEVENT

END:VCALENDAR