BEGIN:VCALENDAR
VERSION:2.0
PRODID:nkc_event TYPO3 Extension
METHOD:PUBLISH
BEGIN:VEVENT
UID:31113cead176c03d418dff709e1d7e36
LOCATION:Martin-Luther-Kirche
SUMMARY:Kantatengottesdienst zu Pfingstmontag
DESCRIPTION:Im Pfingstmontags-Gottesdienst erklingt die spektakuläre Bach-Kantate 103 DQUOTEIhr werdet weinen und heulenDQUOTE. Den Gottesdienst halten Pastorin Sandra Peters-Hilberling und Pastor Ulrich Thomas\, es musizieren der Alsterbund-Oratorienchor\, das Kammerorchester Alsterdorf\, Nanora Büttiker (Alt) und Mirko Ludwig (Tenor) unter der Leitung von Kasimir Sydow.
CLASS:PUBLIC
DTSTART:20260525T090000Z
DTEND:20260525T100000Z
DTSTAMP:20260421T082800Z
END:VEVENT

END:VCALENDAR